BEGIN:VCALENDAR
VERSION:2.0
PRODID:-//www.arcjc.org//NONSGML kigkonsult.se iCalcreator 2.30.10//
CALSCALE:GREGORIAN
METHOD:PUBLISH
UID:fefde77d-a742-4aaf-97c7-1af3388df9cf
X-WR-CALDESC:
X-WR-RELCALID:e8fa95e1873240c491cd961b726085cb
X-WR-TIMEZONE:America/Denver
BEGIN:VTIMEZONE
TZID:America/Denver
BEGIN:STANDARD
TZNAME:MST
DTSTART:20171105T020000
TZOFFSETFROM:-0600
TZOFFSETTO:-0700
RDATE:20181104T020000
END:STANDARD
BEGIN:DAYLIGHT
TZNAME:MDT
DTSTART:20180311T020000
TZOFFSETFROM:-0700
TZOFFSETTO:-0600
RDATE:20190310T020000
END:DAYLIGHT
END:VTIMEZONE
BEGIN:VEVENT
UID:13df8d39-a987-4b01-ac6c-2673d2476192
DTSTAMP:20260426T034238Z
DESCRIPTION:
DTSTART;TZID=America/Denver:20180418T173000
DTEND;TZID=America/Denver:20180418T180000
LOCATION:The Arc's Offices
SUMMARY:The Arc's Annual Meeting
END:VEVENT
END:VCALENDAR
