BEGIN:VCALENDAR
VERSION:2.0
PRODID:-//www.arcjc.org//NONSGML kigkonsult.se iCalcreator 2.30.10//
CALSCALE:GREGORIAN
METHOD:PUBLISH
UID:4415e91e-80c8-4fea-a3e4-0054cc2a580b
X-WR-CALDESC:Coffee House is a social meeting of self advocates.\n\nPeople 
 First is composed of self advocates who meet together in order to gain sel
 f-advocacy skills and for social events. People First is a local chapter o
 f the national organization Speaking For Ourselves.
X-WR-RELCALID:f05aa835f799a23734a3e08d426a2eba
X-WR-TIMEZONE:America/Denver
BEGIN:VTIMEZONE
TZID:America/Denver
BEGIN:STANDARD
TZNAME:MST
DTSTART:20171105T020000
TZOFFSETFROM:-0600
TZOFFSETTO:-0700
RDATE:20181104T020000
END:STANDARD
BEGIN:DAYLIGHT
TZNAME:MDT
DTSTART:20180311T020000
TZOFFSETFROM:-0700
TZOFFSETTO:-0600
RDATE:20190310T020000
END:DAYLIGHT
END:VTIMEZONE
BEGIN:VEVENT
UID:fef4b5a8-8710-48bb-aa8c-d85927dfaac5
DTSTAMP:20260426T033313Z
DESCRIPTION:Coffee House is a social meeting of self advocates.\n\nPeople F
 irst is composed of self advocates who meet together in order to gain self
 -advocacy skills and for social events. People First is a local chapter of
  the national organization Speaking For Ourselves.
DTSTART;TZID=America/Denver:20180419T180000
DTEND;TZID=America/Denver:20180419T193000
LOCATION:Panera Bread -- 650 S. Wadsworth Blvd\, Lakewood (Southeast corner
  of Wadsworth & Center Ave)
SUMMARY:Coffee House
END:VEVENT
END:VCALENDAR
