BEGIN:VCALENDAR
VERSION:2.0
PRODID:-//www.arcjc.org//NONSGML kigkonsult.se iCalcreator 2.30.10//
CALSCALE:GREGORIAN
METHOD:PUBLISH
UID:655ce4c1-930c-4daf-abb5-ea4faea32917
X-WR-CALDESC:Movies\, music\, performing arts\, books\, concerts--they are 
 all types of entertainment that enrich our lives and nourish our souls. So
 metimes we forget just how much entertainment is accessible to all of us. 
 Join us at The Arc for a LifeAbility Talk that is all about accessing ente
 rtainment that provides joy and brings us together.\n\nOur friend\, Kelly 
 Duran\, from the Jeffco Public Library will be there to talk about all the
  types of entertainment that are available and accessible for free through
  the library. You will be surprised how much they have to offer! Lunch wil
 l be provided afterward.\n\nIf you would like to join us for a fun and enr
 iching morning\, and to share your ideas about entertainment\, please regi
 ster now!
X-WR-RELCALID:1ed069765973991c7e5e4727feee0434
X-WR-TIMEZONE:America/Denver
BEGIN:VTIMEZONE
TZID:America/Denver
BEGIN:STANDARD
TZNAME:MST
DTSTART:20171105T020000
TZOFFSETFROM:-0600
TZOFFSETTO:-0700
RDATE:20181104T020000
END:STANDARD
BEGIN:DAYLIGHT
TZNAME:MDT
DTSTART:20180311T020000
TZOFFSETFROM:-0700
TZOFFSETTO:-0600
RDATE:20190310T020000
END:DAYLIGHT
END:VTIMEZONE
BEGIN:VEVENT
UID:c85f38c1-829d-44a8-8e42-76ce70530fa3
DTSTAMP:20260426T033302Z
DESCRIPTION:Movies\, music\, performing arts\, books\, concerts--they are a
 ll types of entertainment that enrich our lives and nourish our souls. Som
 etimes we forget just how much entertainment is accessible to all of us. J
 oin us at The Arc for a LifeAbility Talk that is all about accessing enter
 tainment that provides joy and brings us together.\n\nOur friend\, Kelly D
 uran\, from the Jeffco Public Library will be there to talk about all the 
 types of entertainment that are available and accessible for free through 
 the library. You will be surprised how much they have to offer! Lunch will
  be provided afterward.\n\nIf you would like to join us for a fun and enri
 ching morning\, and to share your ideas about entertainment\, please regis
 ter now!
DTSTART;TZID=America/Denver:20180425T103000
DTEND;TZID=America/Denver:20180425T123000
LOCATION:The Arc
SUMMARY:LifeAbility Talks: Entertainment
END:VEVENT
END:VCALENDAR
