BEGIN:VCALENDAR
VERSION:2.0
PRODID:-//www.arcjc.org//NONSGML kigkonsult.se iCalcreator 2.30.10//
CALSCALE:GREGORIAN
METHOD:PUBLISH
UID:3b4fb8dc-ed17-4799-b6ae-196472908b00
X-WR-CALDESC:Don’t miss this free comprehensive training on recent changes 
 to the mandatory reporting rules that protect Colorado’s at-risk adults. L
 earn how to identify mistreatment\, abuse\, neglect\, and exploitation (MA
 NE)\; how to report MANE incidents\; and who to report these incidents to.
  \n\nThe training will address statutory changes in 2016 that added adults
  with intellectual and developmental disabilities to the definition of at-
 risk adults\, which also includes any adult aged 70 or older. Each trainin
 g includes a 2.5 hour presentation followed by a Q&A session with presente
 rs. \n\nIf you are considered a mandatory reporter in Colorado\, this trai
 ning is for you! \n\nNot sure if this law applies to you? Use the link bel
 ow to learn more.
X-WR-RELCALID:3868dcd9d526d0641ab58b6ce85c86a0
X-WR-TIMEZONE:America/Denver
BEGIN:VTIMEZONE
TZID:America/Denver
BEGIN:STANDARD
TZNAME:MST
DTSTART:20171105T020000
TZOFFSETFROM:-0600
TZOFFSETTO:-0700
RDATE:20181104T020000
RDATE:20191103T020000
END:STANDARD
BEGIN:DAYLIGHT
TZNAME:MDT
DTSTART:20180311T020000
TZOFFSETFROM:-0700
TZOFFSETTO:-0600
RDATE:20190310T020000
END:DAYLIGHT
END:VTIMEZONE
BEGIN:VEVENT
UID:c574ef9b-f905-460a-ba03-58b23cd43a02
DTSTAMP:20260425T235945Z
DESCRIPTION:Don’t miss this free comprehensive training on recent changes t
 o the mandatory reporting rules that protect Colorado’s at-risk adults. Le
 arn how to identify mistreatment\, abuse\, neglect\, and exploitation (MAN
 E)\; how to report MANE incidents\; and who to report these incidents to. 
 \n\nThe training will address statutory changes in 2016 that added adults 
 with intellectual and developmental disabilities to the definition of at-r
 isk adults\, which also includes any adult aged 70 or older. Each training
  includes a 2.5 hour presentation followed by a Q&A session with presenter
 s. \n\nIf you are considered a mandatory reporter in Colorado\, this train
 ing is for you! \n\nNot sure if this law applies to you? Use the link belo
 w to learn more.
DTSTART;TZID=America/Denver:20180710T160000
DTEND;TZID=America/Denver:20180710T190000
LOCATION:Lakewood Police Department 445 S Allison Pkwy\, Lakewood
SUMMARY:Mandatory Reporting 7/10
END:VEVENT
END:VCALENDAR
