BEGIN:VCALENDAR
VERSION:2.0
PRODID:-//www.arcjc.org//NONSGML kigkonsult.se iCalcreator 2.30.10//
CALSCALE:GREGORIAN
METHOD:PUBLISH
UID:6aee2d37-9539-4d2a-892b-f23d57b23ab9
X-WR-CALDESC:
X-WR-RELCALID:ee4494f690ff3d1dff200b4b5103e0cc
X-WR-TIMEZONE:America/Denver
BEGIN:VTIMEZONE
TZID:America/Denver
BEGIN:STANDARD
TZNAME:MST
DTSTART:20171105T020000
TZOFFSETFROM:-0600
TZOFFSETTO:-0700
RDATE:20181104T020000
RDATE:20191103T020000
END:STANDARD
BEGIN:DAYLIGHT
TZNAME:MDT
DTSTART:20180311T020000
TZOFFSETFROM:-0700
TZOFFSETTO:-0600
RDATE:20190310T020000
RDATE:20200308T020000
END:DAYLIGHT
END:VTIMEZONE
BEGIN:VEVENT
UID:9e4a2d2f-76a8-434d-aac9-7e23a3adee0a
DTSTAMP:20260425T201535Z
DESCRIPTION:
DTSTART;TZID=America/Denver:20181011T180000
DTEND;TZID=America/Denver:20181011T203000
LOCATION:
SUMMARY:Mobilizing Families Fall 2018
END:VEVENT
END:VCALENDAR
