BEGIN:VCALENDAR
VERSION:2.0
PRODID:-//www.arcjc.org//NONSGML kigkonsult.se iCalcreator 2.30.10//
CALSCALE:GREGORIAN
METHOD:PUBLISH
UID:01aa1d8b-42de-4a46-a796-97a5ac98d818
X-WR-CALDESC:There can be a lot of questions when a child with I/DD officia
 lly becomes an adult. As a parent or legal guardian\, you may be asking yo
 urself:\n - Are there more appropriate alternatives to guardianship? \n - 
 Should I apply for guardianship?\n - What would be my responsibilities?\n 
 - What does it mean for my loved one with a disability?\n\nThe Arc - Jeffe
 rson\, Clear Creek & Gilpin Counties invites you to an informational class
  that addresses these topics and more.  A step-by-step guide to completing
  the guardianship forms required by law will be provided. \n\nSpace is lim
 ited. Please RSVP by registering above. \n*if the class fills\, there will
  be a waiting list available by emailing courtney@arcjc.org. *
X-WR-RELCALID:8a966f17a40dbf3fa3bb8f9b6b04d783
X-WR-TIMEZONE:America/Denver
BEGIN:VTIMEZONE
TZID:America/Denver
BEGIN:STANDARD
TZNAME:MST
DTSTART:20181104T020000
TZOFFSETFROM:-0600
TZOFFSETTO:-0700
RDATE:20191103T020000
RDATE:20201101T020000
END:STANDARD
BEGIN:DAYLIGHT
TZNAME:MDT
DTSTART:20190310T020000
TZOFFSETFROM:-0700
TZOFFSETTO:-0600
RDATE:20200308T020000
END:DAYLIGHT
END:VTIMEZONE
BEGIN:VEVENT
UID:4c62ac3c-74ff-4925-9693-42af029cf870
DTSTAMP:20260425T113459Z
DESCRIPTION:There can be a lot of questions when a child with I/DD official
 ly becomes an adult. As a parent or legal guardian\, you may be asking you
 rself:\n - Are there more appropriate alternatives to guardianship? \n - S
 hould I apply for guardianship?\n - What would be my responsibilities?\n -
  What does it mean for my loved one with a disability?\n\nThe Arc - Jeffer
 son\, Clear Creek & Gilpin Counties invites you to an informational class 
 that addresses these topics and more.  A step-by-step guide to completing 
 the guardianship forms required by law will be provided. \n\nSpace is limi
 ted. Please RSVP by registering above. \n*if the class fills\, there will 
 be a waiting list available by emailing courtney@arcjc.org. *
DTSTART;TZID=America/Denver:20190514T160000
DTEND;TZID=America/Denver:20190514T180000
LOCATION:The Arc's Offices - 13949 W. Colfax Ave\, Suite 150\, Lakewood\, C
 O 80401
SUMMARY:Guardianship and Alternatives
END:VEVENT
END:VCALENDAR
