BEGIN:VCALENDAR
VERSION:2.0
PRODID:-//www.arcjc.org//NONSGML kigkonsult.se iCalcreator 2.30.10//
CALSCALE:GREGORIAN
METHOD:PUBLISH
UID:311eee67-23c7-49ff-b472-9e70b65f232a
X-WR-CALDESC:Please note that this event will NOT be held at The Arc's offi
 ce! Due to COVID-19\, we will be holding our Annual Membership Meeting onl
 ine only. We will have both Zoom and call-in options. In order to receive 
 the Zoom and call-in information\, you must RSVP for the meeting. Thank yo
 u!
X-WR-RELCALID:80dff8935360f2096811467905a542c0
X-WR-TIMEZONE:America/Denver
BEGIN:VTIMEZONE
TZID:America/Denver
BEGIN:STANDARD
TZNAME:MST
DTSTART:20191103T020000
TZOFFSETFROM:-0600
TZOFFSETTO:-0700
RDATE:20201101T020000
RDATE:20211107T020000
END:STANDARD
BEGIN:DAYLIGHT
TZNAME:MDT
DTSTART:20200308T020000
TZOFFSETFROM:-0700
TZOFFSETTO:-0600
RDATE:20210314T020000
END:DAYLIGHT
END:VTIMEZONE
BEGIN:VEVENT
UID:6a55480c-99dc-4768-aa02-d17d2ae98193
DTSTAMP:20260424T194432Z
DESCRIPTION:Please note that this event will NOT be held at The Arc's offic
 e! Due to COVID-19\, we will be holding our Annual Membership Meeting onli
 ne only. We will have both Zoom and call-in options. In order to receive t
 he Zoom and call-in information\, you must RSVP for the meeting. Thank you
 !
DTSTART;TZID=America/Denver:20200617T180000
DTEND;TZID=America/Denver:20200617T183000
LOCATION:Online- Via Zoom
SUMMARY:State of The Arc - The Arc's VIRTUAL Annual Meeting
END:VEVENT
END:VCALENDAR
