BEGIN:VCALENDAR
VERSION:2.0
PRODID:-//www.arcjc.org//NONSGML kigkonsult.se iCalcreator 2.30.10//
CALSCALE:GREGORIAN
METHOD:PUBLISH
UID:557f0052-d5f0-417b-84f6-0560758e760b
X-WR-CALDESC:
X-WR-RELCALID:3e1563f483ca776dddcc500ea2673d00
X-WR-TIMEZONE:America/Denver
BEGIN:VTIMEZONE
TZID:America/Denver
BEGIN:STANDARD
TZNAME:MST
DTSTART:20191103T020000
TZOFFSETFROM:-0600
TZOFFSETTO:-0700
RDATE:20201101T020000
RDATE:20211107T020000
END:STANDARD
BEGIN:DAYLIGHT
TZNAME:MDT
DTSTART:20200308T020000
TZOFFSETFROM:-0700
TZOFFSETTO:-0600
RDATE:20210314T020000
END:DAYLIGHT
END:VTIMEZONE
BEGIN:VEVENT
UID:6f10ba6e-33a4-495c-a0ea-67b454bd913f
DTSTAMP:20260424T170051Z
DESCRIPTION:
DTSTART;TZID=America/Denver:20200819T183000
DTEND;TZID=America/Denver:20200819T203000
LOCATION:The Arc office--13949 W Colfax Ave\, Denver West Bldg 1\, Suite 15
 0\, Lakewood\, CO 80401
SUMMARY:Board Meeting
END:VEVENT
END:VCALENDAR
