BEGIN:VCALENDAR
VERSION:2.0
PRODID:-//www.arcjc.org//NONSGML kigkonsult.se iCalcreator 2.30.10//
CALSCALE:GREGORIAN
METHOD:PUBLISH
UID:d6fe9d55-3e5f-41ad-bb99-0759f7b01650
X-WR-CALDESC:People First is composed of self advocates who meet together i
 n order to gain self-advocacy skills and for social events. People First i
 s a local chapter of the national organization Speaking For Ourselves.
X-WR-RELCALID:0f9191565aa24f39d0aa9aa4eaac6669
X-WR-TIMEZONE:America/Denver
BEGIN:VTIMEZONE
TZID:America/Denver
BEGIN:STANDARD
TZNAME:MST
DTSTART:20211107T020000
TZOFFSETFROM:-0600
TZOFFSETTO:-0700
RDATE:20221106T020000
END:STANDARD
BEGIN:DAYLIGHT
TZNAME:MDT
DTSTART:20210314T020000
TZOFFSETFROM:-0700
TZOFFSETTO:-0600
RDATE:20220313T020000
RDATE:20230312T020000
END:DAYLIGHT
END:VTIMEZONE
BEGIN:VEVENT
UID:45176507-78bf-450e-b2d1-8d11c16dedf6
DTSTAMP:20260423T204313Z
DESCRIPTION:People First is composed of self advocates who meet together in
  order to gain self-advocacy skills and for social events. People First is
  a local chapter of the national organization Speaking For Ourselves.
DTSTART;TZID=America/Denver:20211201T180000
DTEND;TZID=America/Denver:20211201T193000
LOCATION:The Arc's Office -- 13949 W. Colfax Ave\, #150\, Lakewood\, CO
SUMMARY:People First Monthly Meeting
END:VEVENT
END:VCALENDAR
