BEGIN:VCALENDAR
VERSION:2.0
PRODID:-//www.arcjc.org//NONSGML kigkonsult.se iCalcreator 2.30.10//
CALSCALE:GREGORIAN
METHOD:PUBLISH
UID:bb9732e2-25ac-4a0b-a7c9-940f8b9b6944
X-WR-CALDESC:The May 2022 Board Meeting has been cancelled.
X-WR-RELCALID:71c78ad5d9158399b72d0642a353074c
X-WR-TIMEZONE:America/Denver
BEGIN:VTIMEZONE
TZID:America/Denver
BEGIN:STANDARD
TZNAME:MST
DTSTART:20211107T020000
TZOFFSETFROM:-0600
TZOFFSETTO:-0700
RDATE:20221106T020000
RDATE:20231105T020000
END:STANDARD
BEGIN:DAYLIGHT
TZNAME:MDT
DTSTART:20220313T020000
TZOFFSETFROM:-0700
TZOFFSETTO:-0600
RDATE:20230312T020000
END:DAYLIGHT
END:VTIMEZONE
BEGIN:VEVENT
UID:5bbe74fb-c837-4a5e-ad85-31144f9dec98
DTSTAMP:20260423T134209Z
DESCRIPTION:The May 2022 Board Meeting has been cancelled.
DTSTART;TZID=America/Denver:20220518T183000
DTEND;TZID=America/Denver:20220518T203000
LOCATION:The Arc office--13949 W Colfax Ave\, Denver West Bldg 1\, Suite 10
 2\, Lakewood\, CO 80401
SUMMARY:Board Meeting - May Meeting CANCELLED
END:VEVENT
END:VCALENDAR
