BEGIN:VCALENDAR
VERSION:2.0
PRODID:-//www.arcjc.org//NONSGML kigkonsult.se iCalcreator 2.30.10//
CALSCALE:GREGORIAN
METHOD:PUBLISH
UID:cb4e9bf5-b4df-46d3-b79e-a7d791367cd1
X-WR-CALDESC:After two years away\, our 2022 Summit of Hope has been re-ima
 gined into a new hybrid format with a movie-premiere theme!\n\nOur Summit 
 of Hope program will include moving and impactful stories straight from th
 e people we serve via video and live speakers\; complete with popcorn and 
 other movie favorites! After the program\, there will be an opportunity to
  learn more and discuss the work that The Arc does over heavy appetizers a
 nd drinks.\n\nMore details to come!
X-WR-RELCALID:3972ae30586f37476b2686a5e507bcca
X-WR-TIMEZONE:America/Denver
BEGIN:VTIMEZONE
TZID:America/Denver
BEGIN:STANDARD
TZNAME:MST
DTSTART:20211107T020000
TZOFFSETFROM:-0600
TZOFFSETTO:-0700
RDATE:20221106T020000
RDATE:20231105T020000
END:STANDARD
BEGIN:DAYLIGHT
TZNAME:MDT
DTSTART:20220313T020000
TZOFFSETFROM:-0700
TZOFFSETTO:-0600
RDATE:20230312T020000
RDATE:20240310T020000
END:DAYLIGHT
END:VTIMEZONE
BEGIN:VEVENT
UID:9f82f35f-07b6-4276-817a-3a1ab5faaf19
DTSTAMP:20260421T113147Z
DESCRIPTION:After two years away\, our 2022 Summit of Hope has been re-imag
 ined into a new hybrid format with a movie-premiere theme!\n\nOur Summit o
 f Hope program will include moving and impactful stories straight from the
  people we serve via video and live speakers\; complete with popcorn and o
 ther movie favorites! After the program\, there will be an opportunity to 
 learn more and discuss the work that The Arc does over heavy appetizers an
 d drinks.\n\nMore details to come!
DTSTART;TZID=America/Denver:20221013T000000
DTEND;TZID=America/Denver:20221013T235900
LOCATION:
SUMMARY:Summit of Hope
END:VEVENT
END:VCALENDAR
