BEGIN:VCALENDAR
VERSION:2.0
PRODID:-//www.arcjc.org//NONSGML kigkonsult.se iCalcreator 2.30.10//
CALSCALE:GREGORIAN
METHOD:PUBLISH
UID:6a1e4d3a-b7a4-47c5-a5a4-827d4293a46a
X-WR-CALDESC:Coffee House is a social meeting of self advocates.\n\nPeople 
 First is composed of self advocates who meet together in order to gain sel
 f-advocacy skills and for social events. People First is a local chapter o
 f the national organization Speaking For Ourselves.
X-WR-RELCALID:05053f487ab660e92bea2fdbfab540bd
X-WR-TIMEZONE:America/Denver
BEGIN:VTIMEZONE
TZID:America/Denver
BEGIN:STANDARD
TZNAME:MST
DTSTART:20221106T020000
TZOFFSETFROM:-0600
TZOFFSETTO:-0700
RDATE:20231105T020000
END:STANDARD
BEGIN:DAYLIGHT
TZNAME:MDT
DTSTART:20220313T020000
TZOFFSETFROM:-0700
TZOFFSETTO:-0600
RDATE:20230312T020000
RDATE:20240310T020000
END:DAYLIGHT
END:VTIMEZONE
BEGIN:VEVENT
UID:822367bc-a770-4c19-b487-76680d94001e
DTSTAMP:20260421T095458Z
DESCRIPTION:Coffee House is a social meeting of self advocates.\n\nPeople F
 irst is composed of self advocates who meet together in order to gain self
 -advocacy skills and for social events. People First is a local chapter of
  the national organization Speaking For Ourselves.
DTSTART;TZID=America/Denver:20221117T173000
DTEND;TZID=America/Denver:20221117T190000
LOCATION:Panera Bread -- 650 S. Wadsworth Blvd\, Lakewood (Southeast corner
  of Wadsworth & Center Ave)
SUMMARY:Coffee House
END:VEVENT
END:VCALENDAR
