BEGIN:VCALENDAR
VERSION:2.0
PRODID:-//www.arcjc.org//NONSGML kigkonsult.se iCalcreator 2.30.10//
CALSCALE:GREGORIAN
METHOD:PUBLISH
UID:14aafbb6-0f7f-498c-a68b-63e512f5123b
X-WR-CALDESC:
X-WR-RELCALID:0603251435a6b4bd304f0e9bd235cd9c
X-WR-TIMEZONE:America/Denver
BEGIN:VTIMEZONE
TZID:America/Denver
BEGIN:STANDARD
TZNAME:MST
DTSTART:20171105T020000
TZOFFSETFROM:-0600
TZOFFSETTO:-0700
RDATE:20181104T020000
END:STANDARD
BEGIN:DAYLIGHT
TZNAME:MDT
DTSTART:20170312T020000
TZOFFSETFROM:-0700
TZOFFSETTO:-0600
RDATE:20180311T020000
RDATE:20190310T020000
END:DAYLIGHT
END:VTIMEZONE
BEGIN:VEVENT
UID:72607d91-d2eb-48fe-b6a1-6be69fac5a94
DTSTAMP:20260426T042643Z
DESCRIPTION:
DTSTART;TZID=America/Denver:20180215T180000
DTEND;TZID=America/Denver:20180215T203000
LOCATION:
SUMMARY:Mobilizing Families Spring 2018
END:VEVENT
END:VCALENDAR
