BEGIN:VCALENDAR
VERSION:2.0
PRODID:-//www.arcjc.org//NONSGML kigkonsult.se iCalcreator 2.30.10//
CALSCALE:GREGORIAN
METHOD:PUBLISH
UID:d0bf76cd-1125-4778-8059-8f907055befd
X-WR-CALDESC:
X-WR-RELCALID:397230040aa1118f2833c909e329bd29
X-WR-TIMEZONE:America/Denver
BEGIN:VTIMEZONE
TZID:America/Denver
BEGIN:STANDARD
TZNAME:MST
DTSTART:20171105T020000
TZOFFSETFROM:-0600
TZOFFSETTO:-0700
RDATE:20181104T020000
END:STANDARD
BEGIN:DAYLIGHT
TZNAME:MDT
DTSTART:20180311T020000
TZOFFSETFROM:-0700
TZOFFSETTO:-0600
RDATE:20190310T020000
END:DAYLIGHT
END:VTIMEZONE
BEGIN:VEVENT
UID:344e62b0-a509-4dfc-933e-7dd433d13b26
DTSTAMP:20260426T021709Z
DESCRIPTION:
DTSTART;TZID=America/Denver:20180418T183000
DTEND;TZID=America/Denver:20180418T203000
LOCATION:The Arc's Offices
SUMMARY:The Arc's SPARC Awards
END:VEVENT
END:VCALENDAR
