BEGIN:VCALENDAR
VERSION:2.0
PRODID:-//www.arcjc.org//NONSGML kigkonsult.se iCalcreator 2.30.10//
CALSCALE:GREGORIAN
METHOD:PUBLISH
UID:76ed05eb-498f-4b43-9a8c-9fd474aa65ac
X-WR-CALDESC:
X-WR-RELCALID:21eeda60085123b1aa4ae597cb4b2a6d
X-WR-TIMEZONE:America/Denver
BEGIN:VTIMEZONE
TZID:America/Denver
BEGIN:STANDARD
TZNAME:MST
DTSTART:20171105T020000
TZOFFSETFROM:-0600
TZOFFSETTO:-0700
RDATE:20181104T020000
RDATE:20191103T020000
END:STANDARD
BEGIN:DAYLIGHT
TZNAME:MDT
DTSTART:20180311T020000
TZOFFSETFROM:-0700
TZOFFSETTO:-0600
RDATE:20190310T020000
END:DAYLIGHT
END:VTIMEZONE
BEGIN:VEVENT
UID:3c0ec7b9-7b44-49ba-a2ed-7f25e5fbb7d4
DTSTAMP:20260425T235633Z
DESCRIPTION:
DTSTART;TZID=America/Denver:20180620T183000
DTEND;TZID=America/Denver:20180620T203000
LOCATION:The Arc office--13949 W Colfax Ave\, Denver West Bldg 1\, Suite 15
 0\, Lakewood\, CO 80401
SUMMARY:Board Meeting
END:VEVENT
END:VCALENDAR
