BEGIN:VCALENDAR
VERSION:2.0
PRODID:-//www.arcjc.org//NONSGML kigkonsult.se iCalcreator 2.30.10//
CALSCALE:GREGORIAN
METHOD:PUBLISH
UID:db6e7650-baae-4b74-98dc-fb4e65478360
X-WR-CALDESC:
X-WR-RELCALID:e05e14fc732cc00bca1a560f2205bd3d
X-WR-TIMEZONE:America/Denver
BEGIN:VTIMEZONE
TZID:America/Denver
BEGIN:STANDARD
TZNAME:MST
DTSTART:20171105T020000
TZOFFSETFROM:-0600
TZOFFSETTO:-0700
RDATE:20181104T020000
RDATE:20191103T020000
END:STANDARD
BEGIN:DAYLIGHT
TZNAME:MDT
DTSTART:20180311T020000
TZOFFSETFROM:-0700
TZOFFSETTO:-0600
RDATE:20190310T020000
END:DAYLIGHT
END:VTIMEZONE
BEGIN:VEVENT
UID:b4c17e10-b4f4-469e-acbe-10d776df1085
DTSTAMP:20260425T223957Z
DESCRIPTION:
DTSTART;TZID=America/Denver:20180718T163000
DTEND;TZID=America/Denver:20180718T190000
LOCATION:Clement Park\, 7306 W Bowles Ave\, Littleton\, CO 80123
SUMMARY:The Arc's Annual Picnic
END:VEVENT
END:VCALENDAR
