BEGIN:VCALENDAR
VERSION:2.0
PRODID:-//www.arcjc.org//NONSGML kigkonsult.se iCalcreator 2.30.10//
CALSCALE:GREGORIAN
METHOD:PUBLISH
UID:0abdc10a-f4b5-4523-b161-16134f9e04bf
X-WR-CALDESC:Join The Arc’s staff\, board\, and supporters for festive food
 \, live music\, and plenty of holiday cheer! Stop by to say hello\, meet n
 ew people\, reconnect with old friends and see what we’ve been up to this 
 year.\n\nPlease RSVP to (303) 232-1338\, by email to info@arcjc.org\, or o
 nline here by November 30.\n\nTo honor the tradition of holiday giving\, w
 e are providing a unique opportunity for our guests to donate gift cards a
 t the holiday party. The Arc distributes a variety of gift cards each year
  to the people we support and the volunteers who support us. Please consid
 er bringing with you a gift card of any value for groceries\, household go
 ods\, gas\, movies or clothing. There will be a wrapped “deposit” box at t
 he check-in table where you can drop off your gift card donation. Thank yo
 u!
X-WR-RELCALID:ff5961ad73fedd89cdf9909ba264c968
X-WR-TIMEZONE:America/Denver
BEGIN:VTIMEZONE
TZID:America/Denver
BEGIN:STANDARD
TZNAME:MST
DTSTART:20181104T020000
TZOFFSETFROM:-0600
TZOFFSETTO:-0700
RDATE:20191103T020000
END:STANDARD
BEGIN:DAYLIGHT
TZNAME:MDT
DTSTART:20180311T020000
TZOFFSETFROM:-0700
TZOFFSETTO:-0600
RDATE:20190310T020000
RDATE:20200308T020000
END:DAYLIGHT
END:VTIMEZONE
BEGIN:VEVENT
UID:4b9c90fb-7443-40e2-ba08-802f07cd928a
DTSTAMP:20260425T164256Z
DESCRIPTION:Join The Arc’s staff\, board\, and supporters for festive food\
 , live music\, and plenty of holiday cheer! Stop by to say hello\, meet ne
 w people\, reconnect with old friends and see what we’ve been up to this y
 ear.\n\nPlease RSVP to (303) 232-1338\, by email to info@arcjc.org\, or on
 line here by November 30.\n\nTo honor the tradition of holiday giving\, we
  are providing a unique opportunity for our guests to donate gift cards at
  the holiday party. The Arc distributes a variety of gift cards each year 
 to the people we support and the volunteers who support us. Please conside
 r bringing with you a gift card of any value for groceries\, household goo
 ds\, gas\, movies or clothing. There will be a wrapped “deposit” box at th
 e check-in table where you can drop off your gift card donation. Thank you
 !
DTSTART;TZID=America/Denver:20181210T160000
DTEND;TZID=America/Denver:20181210T190000
LOCATION:13949 W. Colfax Ave\, Wheat Ridge\, CO 80212
SUMMARY:The Arc's Holiday Party
END:VEVENT
END:VCALENDAR
