BEGIN:VCALENDAR
VERSION:2.0
PRODID:-//www.arcjc.org//NONSGML kigkonsult.se iCalcreator 2.30.10//
CALSCALE:GREGORIAN
METHOD:PUBLISH
UID:d0655be1-a2cf-450c-a4b7-4de9fd29b8dc
X-WR-CALDESC:Coffee House is a social meeting of self advocates.\n\nPeople 
 First is composed of self advocates who meet together in order to gain sel
 f-advocacy skills and for social events. People First is a local chapter o
 f the national organization Speaking For Ourselves.
X-WR-RELCALID:82573fd2388b439e8a3c7d472b848ac0
X-WR-TIMEZONE:America/Denver
BEGIN:VTIMEZONE
TZID:America/Denver
BEGIN:STANDARD
TZNAME:MST
DTSTART:20181104T020000
TZOFFSETFROM:-0600
TZOFFSETTO:-0700
RDATE:20191103T020000
END:STANDARD
BEGIN:DAYLIGHT
TZNAME:MDT
DTSTART:20180311T020000
TZOFFSETFROM:-0700
TZOFFSETTO:-0600
RDATE:20190310T020000
RDATE:20200308T020000
END:DAYLIGHT
END:VTIMEZONE
BEGIN:VEVENT
UID:a3b04dbc-37d3-429e-804e-4ccc08750a1e
DTSTAMP:20260425T163301Z
DESCRIPTION:Coffee House is a social meeting of self advocates.\n\nPeople F
 irst is composed of self advocates who meet together in order to gain self
 -advocacy skills and for social events. People First is a local chapter of
  the national organization Speaking For Ourselves.
DTSTART;TZID=America/Denver:20181220T180000
DTEND;TZID=America/Denver:20181220T193000
LOCATION:Panera Bread -- 650 S. Wadsworth Blvd\, Lakewood (Southeast corner
  of Wadsworth & Center Ave)
SUMMARY:Coffee House
END:VEVENT
END:VCALENDAR
