BEGIN:VCALENDAR
VERSION:2.0
PRODID:-//www.arcjc.org//NONSGML kigkonsult.se iCalcreator 2.30.10//
CALSCALE:GREGORIAN
METHOD:PUBLISH
UID:210f320c-54b7-48be-8d1f-585f3fb8e5b9
X-WR-CALDESC:The mission of Rocky Mountain Partners Aktion Club is to provi
 de adults with disabilities the opportunity to develop initiative and lead
 ership\, to serve the community\, to be integrated into society\, and to d
 emonstrate the dignity and value of citizens living with disabilities.\n\n
 Aktion Club is an official sponsored program of Kiwanis International.
X-WR-RELCALID:a157882706da6d1af620e5d36b2ca7a7
X-WR-TIMEZONE:America/Denver
BEGIN:VTIMEZONE
TZID:America/Denver
BEGIN:STANDARD
TZNAME:MST
DTSTART:20181104T020000
TZOFFSETFROM:-0600
TZOFFSETTO:-0700
RDATE:20191103T020000
END:STANDARD
BEGIN:DAYLIGHT
TZNAME:MDT
DTSTART:20180311T020000
TZOFFSETFROM:-0700
TZOFFSETTO:-0600
RDATE:20190310T020000
RDATE:20200308T020000
END:DAYLIGHT
END:VTIMEZONE
BEGIN:VEVENT
UID:d8b8ad66-04bb-4509-a415-b491648acf3c
DTSTAMP:20260425T153157Z
DESCRIPTION:The mission of Rocky Mountain Partners Aktion Club is to provid
 e adults with disabilities the opportunity to develop initiative and leade
 rship\, to serve the community\, to be integrated into society\, and to de
 monstrate the dignity and value of citizens living with disabilities.\n\nA
 ktion Club is an official sponsored program of Kiwanis International.
DTSTART;TZID=America/Denver:20190116T160000
DTEND;TZID=America/Denver:20190116T170000
LOCATION:The Arc office--13949 W. Colfax Ave\, Bldg 1\, Suite 150\, Lakewoo
 d\, CO 80401
SUMMARY:Aktion Club Meeting
END:VEVENT
END:VCALENDAR
