BEGIN:VCALENDAR
VERSION:2.0
PRODID:-//www.arcjc.org//NONSGML kigkonsult.se iCalcreator 2.30.10//
CALSCALE:GREGORIAN
METHOD:PUBLISH
UID:d52eed3c-23a3-4353-b0f4-4facff0b2116
X-WR-CALDESC:People First is composed of self advocates who meet together i
 n order to gain self-advocacy skills and for social events. People First i
 s a local chapter of the national organization Speaking For Ourselves.
X-WR-RELCALID:6e8285ce913231370f3d910d812e3554
X-WR-TIMEZONE:America/Denver
BEGIN:VTIMEZONE
TZID:America/Denver
BEGIN:STANDARD
TZNAME:MST
DTSTART:20181104T020000
TZOFFSETFROM:-0600
TZOFFSETTO:-0700
RDATE:20191103T020000
END:STANDARD
BEGIN:DAYLIGHT
TZNAME:MDT
DTSTART:20180311T020000
TZOFFSETFROM:-0700
TZOFFSETTO:-0600
RDATE:20190310T020000
RDATE:20200308T020000
END:DAYLIGHT
END:VTIMEZONE
BEGIN:VEVENT
UID:fa435e32-fe25-461d-a62d-1e5ddb7a8ce7
DTSTAMP:20260425T142339Z
DESCRIPTION:People First is composed of self advocates who meet together in
  order to gain self-advocacy skills and for social events. People First is
  a local chapter of the national organization Speaking For Ourselves.
DTSTART;TZID=America/Denver:20190206T180000
DTEND;TZID=America/Denver:20190206T193000
LOCATION:The Arc's Office -- 13949 W. Colfax Ave\, #150\, Lakewood\, CO
SUMMARY:People First Monthly Meeting
END:VEVENT
END:VCALENDAR
