BEGIN:VCALENDAR
VERSION:2.0
PRODID:-//www.arcjc.org//NONSGML kigkonsult.se iCalcreator 2.30.10//
CALSCALE:GREGORIAN
METHOD:PUBLISH
UID:23e8ee8a-9271-40d8-9cc6-26586e0d7f33
X-WR-CALDESC:
X-WR-RELCALID:82f63d59595c3cbaaf69502cbab4f7a5
X-WR-TIMEZONE:America/Denver
BEGIN:VTIMEZONE
TZID:America/Denver
BEGIN:STANDARD
TZNAME:MST
DTSTART:20181104T020000
TZOFFSETFROM:-0600
TZOFFSETTO:-0700
RDATE:20191103T020000
END:STANDARD
BEGIN:DAYLIGHT
TZNAME:MDT
DTSTART:20190310T020000
TZOFFSETFROM:-0700
TZOFFSETTO:-0600
RDATE:20200308T020000
END:DAYLIGHT
END:VTIMEZONE
BEGIN:VEVENT
UID:00b6df24-2a90-45a3-b6e0-6d647d1bfbe8
DTSTAMP:20260425T114230Z
DESCRIPTION:
DTSTART;TZID=America/Denver:20190417T173000
DTEND;TZID=America/Denver:20190417T180000
LOCATION:The Arc's Offices
SUMMARY:The Arc's Annual Meeting
END:VEVENT
END:VCALENDAR
