BEGIN:VCALENDAR
VERSION:2.0
PRODID:-//www.arcjc.org//NONSGML kigkonsult.se iCalcreator 2.30.10//
CALSCALE:GREGORIAN
METHOD:PUBLISH
UID:c9971685-0871-495f-bda0-48af9a76d2a9
X-WR-CALDESC:
X-WR-RELCALID:4bb70c457e55f28afc3f02692f313695
X-WR-TIMEZONE:America/Denver
BEGIN:VTIMEZONE
TZID:America/Denver
BEGIN:STANDARD
TZNAME:MST
DTSTART:20181104T020000
TZOFFSETFROM:-0600
TZOFFSETTO:-0700
RDATE:20191103T020000
END:STANDARD
BEGIN:DAYLIGHT
TZNAME:MDT
DTSTART:20190310T020000
TZOFFSETFROM:-0700
TZOFFSETTO:-0600
RDATE:20200308T020000
END:DAYLIGHT
END:VTIMEZONE
BEGIN:VEVENT
UID:553dfafa-66a1-4ccf-b4c1-48c195bdfe8f
DTSTAMP:20260425T115011Z
DESCRIPTION:
DTSTART;TZID=America/Denver:20190417T183000
DTEND;TZID=America/Denver:20190417T203000
LOCATION:The Arc's Offices
SUMMARY:The Arc's SPARC Awards
END:VEVENT
END:VCALENDAR
