BEGIN:VCALENDAR
VERSION:2.0
PRODID:-//www.arcjc.org//NONSGML kigkonsult.se iCalcreator 2.30.10//
CALSCALE:GREGORIAN
METHOD:PUBLISH
UID:e5c35bd4-bb1b-4393-9f86-f4e176fbc813
X-WR-CALDESC:Join The Arc’s staff\, board\, and supporters for festive food
 \, live music\, and plenty of holiday cheer! Stop by to say hello\, meet n
 ew people\, reconnect with old friends and see what we’ve been up to this 
 year.\n\nPlease RSVP to (303) 232-1338\, by email to info@arcjc.org\, or o
 nline here by November 29.\n\nTo honor the tradition of holiday giving\, w
 e are providing a unique opportunity for our guests to donate gift cards a
 t the holiday party. The Arc distributes a variety of gift cards each year
  to the people we support and the volunteers who support us. Please consid
 er bringing with you a gift card of any value for groceries\, household go
 ods\, gas\, movies or clothing. There will be a wrapped “deposit” box at t
 he check-in table where you can drop off your gift card donation. Thank yo
 u!
X-WR-RELCALID:39d8c144547ea241597c5e2ac36f2829
X-WR-TIMEZONE:America/Denver
BEGIN:VTIMEZONE
TZID:America/Denver
BEGIN:STANDARD
TZNAME:MST
DTSTART:20191103T020000
TZOFFSETFROM:-0600
TZOFFSETTO:-0700
RDATE:20201101T020000
END:STANDARD
BEGIN:DAYLIGHT
TZNAME:MDT
DTSTART:20190310T020000
TZOFFSETFROM:-0700
TZOFFSETTO:-0600
RDATE:20200308T020000
RDATE:20210314T020000
END:DAYLIGHT
END:VTIMEZONE
BEGIN:VEVENT
UID:30eab7e2-2b63-450f-8924-5bf9ce68ad41
DTSTAMP:20260425T015736Z
DESCRIPTION:Join The Arc’s staff\, board\, and supporters for festive food\
 , live music\, and plenty of holiday cheer! Stop by to say hello\, meet ne
 w people\, reconnect with old friends and see what we’ve been up to this y
 ear.\n\nPlease RSVP to (303) 232-1338\, by email to info@arcjc.org\, or on
 line here by November 29.\n\nTo honor the tradition of holiday giving\, we
  are providing a unique opportunity for our guests to donate gift cards at
  the holiday party. The Arc distributes a variety of gift cards each year 
 to the people we support and the volunteers who support us. Please conside
 r bringing with you a gift card of any value for groceries\, household goo
 ds\, gas\, movies or clothing. There will be a wrapped “deposit” box at th
 e check-in table where you can drop off your gift card donation. Thank you
 !
DTSTART;TZID=America/Denver:20191209T160000
DTEND;TZID=America/Denver:20191209T190000
LOCATION:13949 W. Colfax Ave\, Lakewood\, CO 80401
SUMMARY:The Arc's Holiday Party
END:VEVENT
END:VCALENDAR
