BEGIN:VCALENDAR
VERSION:2.0
PRODID:-//www.arcjc.org//NONSGML kigkonsult.se iCalcreator 2.30.10//
CALSCALE:GREGORIAN
METHOD:PUBLISH
UID:988d9972-f5c0-4f1d-8995-5a30602dcfd6
X-WR-CALDESC:People First is composed of self advocates who meet together i
 n order to gain self-advocacy skills and for social events. People First i
 s a local chapter of the national organization Speaking For Ourselves.
X-WR-RELCALID:e86ecd3f87d862630bc1bd5f64bacead
X-WR-TIMEZONE:America/Denver
BEGIN:VTIMEZONE
TZID:America/Denver
BEGIN:STANDARD
TZNAME:MST
DTSTART:20191103T020000
TZOFFSETFROM:-0600
TZOFFSETTO:-0700
RDATE:20201101T020000
RDATE:20211107T020000
END:STANDARD
BEGIN:DAYLIGHT
TZNAME:MDT
DTSTART:20200308T020000
TZOFFSETFROM:-0700
TZOFFSETTO:-0600
RDATE:20210314T020000
END:DAYLIGHT
END:VTIMEZONE
BEGIN:VEVENT
UID:c9e17ef8-31c4-4903-96f7-a1f75d68a802
DTSTAMP:20260424T155837Z
DESCRIPTION:People First is composed of self advocates who meet together in
  order to gain self-advocacy skills and for social events. People First is
  a local chapter of the national organization Speaking For Ourselves.
DTSTART;TZID=America/Denver:20200805T180000
DTEND;TZID=America/Denver:20200805T193000
LOCATION:The Arc's Office -- 13949 W. Colfax Ave\, #150\, Lakewood\, CO
SUMMARY:People First Monthly Meeting
END:VEVENT
END:VCALENDAR
