BEGIN:VCALENDAR
VERSION:2.0
PRODID:-//www.arcjc.org//NONSGML kigkonsult.se iCalcreator 2.30.10//
CALSCALE:GREGORIAN
METHOD:PUBLISH
UID:c48557d9-363e-494a-a3ff-85a4bafff378
X-WR-CALDESC:People First is composed of self advocates who meet together i
 n order to gain self-advocacy skills and for social events. People First i
 s a local chapter of the national organization Speaking For Ourselves.
X-WR-RELCALID:316cbe5db3d048b7e6b0bdc6c6a29f61
X-WR-TIMEZONE:America/Denver
BEGIN:VTIMEZONE
TZID:America/Denver
BEGIN:STANDARD
TZNAME:MST
DTSTART:20201101T020000
TZOFFSETFROM:-0600
TZOFFSETTO:-0700
RDATE:20211107T020000
END:STANDARD
BEGIN:DAYLIGHT
TZNAME:MDT
DTSTART:20210314T020000
TZOFFSETFROM:-0700
TZOFFSETTO:-0600
RDATE:20220313T020000
END:DAYLIGHT
END:VTIMEZONE
BEGIN:VEVENT
UID:4fd772ae-c2eb-4023-8dd6-860001312d01
DTSTAMP:20260424T053508Z
DESCRIPTION:People First is composed of self advocates who meet together in
  order to gain self-advocacy skills and for social events. People First is
  a local chapter of the national organization Speaking For Ourselves.
DTSTART;TZID=America/Denver:20210407T180000
DTEND;TZID=America/Denver:20210407T193000
LOCATION:The Arc's Office -- 13949 W. Colfax Ave\, #150\, Lakewood\, CO
SUMMARY:People First Monthly Meeting
END:VEVENT
END:VCALENDAR
