BEGIN:VCALENDAR
VERSION:2.0
PRODID:-//www.arcjc.org//NONSGML kigkonsult.se iCalcreator 2.30.10//
CALSCALE:GREGORIAN
METHOD:PUBLISH
UID:940a0647-ef43-4a2d-a2b8-2d7c2ba8b45a
X-WR-CALDESC:
X-WR-RELCALID:b80d75a816b938c506939a1b28108148
X-WR-TIMEZONE:America/Denver
BEGIN:VTIMEZONE
TZID:America/Denver
BEGIN:STANDARD
TZNAME:MST
DTSTART:20201101T020000
TZOFFSETFROM:-0600
TZOFFSETTO:-0700
RDATE:20211107T020000
RDATE:20221106T020000
END:STANDARD
BEGIN:DAYLIGHT
TZNAME:MDT
DTSTART:20210314T020000
TZOFFSETFROM:-0700
TZOFFSETTO:-0600
RDATE:20220313T020000
END:DAYLIGHT
END:VTIMEZONE
BEGIN:VEVENT
UID:9ec4c989-1940-49b1-9609-115c234faeaa
DTSTAMP:20260421T132643Z
DESCRIPTION:
DTSTART;TZID=America/Denver:20210806T183000
DTEND;TZID=America/Denver:20210806T200000
LOCATION:Clement Park\, 7306 W Bowles Ave\, Littleton\, CO 80123
SUMMARY:The Arc's Ice Cream Social
END:VEVENT
END:VCALENDAR
