BEGIN:VCALENDAR
VERSION:2.0
PRODID:-//www.arcjc.org//NONSGML kigkonsult.se iCalcreator 2.30.10//
CALSCALE:GREGORIAN
METHOD:PUBLISH
UID:ed49d0a6-9faa-49a6-8cf4-0d4e2fc88d13
X-WR-CALDESC:
X-WR-RELCALID:9136aee0215e2ced9e40029111bb393e
X-WR-TIMEZONE:America/Denver
BEGIN:VTIMEZONE
TZID:America/Denver
BEGIN:STANDARD
TZNAME:MST
DTSTART:20201101T020000
TZOFFSETFROM:-0600
TZOFFSETTO:-0700
RDATE:20211107T020000
RDATE:20221106T020000
END:STANDARD
BEGIN:DAYLIGHT
TZNAME:MDT
DTSTART:20210314T020000
TZOFFSETFROM:-0700
TZOFFSETTO:-0600
RDATE:20220313T020000
END:DAYLIGHT
END:VTIMEZONE
BEGIN:VEVENT
UID:97a7e134-55a6-492a-9ada-b17d24c60c4f
DTSTAMP:20260424T005601Z
DESCRIPTION:
DTSTART;TZID=America/Denver:20210818T183000
DTEND;TZID=America/Denver:20210818T203000
LOCATION:The Arc office--13949 W Colfax Ave\, Denver West Bldg 1\, Suite 15
 0\, Lakewood\, CO 80401
SUMMARY:Board Meeting
END:VEVENT
END:VCALENDAR
