BEGIN:VCALENDAR
VERSION:2.0
PRODID:-//www.arcjc.org//NONSGML kigkonsult.se iCalcreator 2.30.10//
CALSCALE:GREGORIAN
METHOD:PUBLISH
UID:ff599248-23f7-41a0-a0e2-14c7e72a6705
X-WR-CALDESC:We are so happy to be able to celebrate the Holiday Season in-
 person this year! However\, in order to keep everyone safe and healthy dur
 ing this time\, we have re-imagined our annual Holiday Party and things wi
 ll look a little different than past years. There will be a hot chocolate 
 bar\, holiday crafts\, a holiday photobooth\, and a festive outfit contest
 -so wear your holiday gear! \n\nThis year\, we will be hosting ONE HOUR HO
 LIDAY TIMESLOTS throughout the day on December 13th. You MUST sign up for 
 the timeslot you wish to attend. There will be 20 people allowed per times
 lot so if you would like to attend with your friends\, make sure you sign 
 up for the same time! Timeslots will close once they are full so don't del
 ay.
X-WR-RELCALID:11efa11ae59702161dfe8fd3ae72b061
X-WR-TIMEZONE:America/Denver
BEGIN:VTIMEZONE
TZID:America/Denver
BEGIN:STANDARD
TZNAME:MST
DTSTART:20211107T020000
TZOFFSETFROM:-0600
TZOFFSETTO:-0700
RDATE:20221106T020000
END:STANDARD
BEGIN:DAYLIGHT
TZNAME:MDT
DTSTART:20210314T020000
TZOFFSETFROM:-0700
TZOFFSETTO:-0600
RDATE:20220313T020000
RDATE:20230312T020000
END:DAYLIGHT
END:VTIMEZONE
BEGIN:VEVENT
UID:3b3454dc-a405-4f5d-a8e2-f1846576b4b6
DTSTAMP:20260423T191718Z
DESCRIPTION:We are so happy to be able to celebrate the Holiday Season in-p
 erson this year! However\, in order to keep everyone safe and healthy duri
 ng this time\, we have re-imagined our annual Holiday Party and things wil
 l look a little different than past years. There will be a hot chocolate b
 ar\, holiday crafts\, a holiday photobooth\, and a festive outfit contest-
 so wear your holiday gear! \n\nThis year\, we will be hosting ONE HOUR HOL
 IDAY TIMESLOTS throughout the day on December 13th. You MUST sign up for t
 he timeslot you wish to attend. There will be 20 people allowed per timesl
 ot so if you would like to attend with your friends\, make sure you sign u
 p for the same time! Timeslots will close once they are full so don't dela
 y.
DTSTART;TZID=America/Denver:20211213T110000
DTEND;TZID=America/Denver:20211213T193000
LOCATION:13949 W. Colfax Ave\, Lakewood\, CO 80401
SUMMARY:Holi-DAY at The Arc
END:VEVENT
END:VCALENDAR
