BEGIN:VCALENDAR
VERSION:2.0
PRODID:-//www.arcjc.org//NONSGML kigkonsult.se iCalcreator 2.30.10//
CALSCALE:GREGORIAN
METHOD:PUBLISH
UID:5ebc570a-ab96-46a0-9111-5212906978c4
X-WR-CALDESC:Hi there\, \n\nYou are invited to a Zoom webinar. \nWhen: Jun 
 22\, 2022 05:30 PM Mountain Time (US and Canada) \nTopic: State of The Arc
 -JCCGC: Annual Meeting\n\nRegister in advance for this webinar:\nhttps://u
 s02web.zoom.us/webinar/register/WN_vLnXtYKzT7SvnqD3raa5nQ\n\n\nAfter regis
 tering\, you will receive a confirmation email containing information abou
 t joining the webinar.\n\n
X-WR-RELCALID:18374f8ca3f392aa2f284b6f3539a610
X-WR-TIMEZONE:America/Denver
BEGIN:VTIMEZONE
TZID:America/Denver
BEGIN:STANDARD
TZNAME:MST
DTSTART:20211107T020000
TZOFFSETFROM:-0600
TZOFFSETTO:-0700
RDATE:20221106T020000
RDATE:20231105T020000
END:STANDARD
BEGIN:DAYLIGHT
TZNAME:MDT
DTSTART:20220313T020000
TZOFFSETFROM:-0700
TZOFFSETTO:-0600
RDATE:20230312T020000
END:DAYLIGHT
END:VTIMEZONE
BEGIN:VEVENT
UID:dee66112-6fe2-42bf-a47e-e51a6180418f
DTSTAMP:20260423T111013Z
DESCRIPTION:Hi there\, \n\nYou are invited to a Zoom webinar. \nWhen: Jun 2
 2\, 2022 05:30 PM Mountain Time (US and Canada) \nTopic: State of The Arc-
 JCCGC: Annual Meeting\n\nRegister in advance for this webinar:\nhttps://us
 02web.zoom.us/webinar/register/WN_vLnXtYKzT7SvnqD3raa5nQ\n\n\nAfter regist
 ering\, you will receive a confirmation email containing information about
  joining the webinar.\n\n
DTSTART;TZID=America/Denver:20220622T180000
DTEND;TZID=America/Denver:20220622T183000
LOCATION:
SUMMARY:State of The Arc\, Annual Meeting
END:VEVENT
END:VCALENDAR
