BEGIN:VCALENDAR
VERSION:2.0
PRODID:-//www.arcjc.org//NONSGML kigkonsult.se iCalcreator 2.30.10//
CALSCALE:GREGORIAN
METHOD:PUBLISH
UID:fb7d5aa3-a963-4cd3-b5c4-ce50ef88e61c
X-WR-CALDESC:Coffee House is a social meeting of self advocates.\n\nPeople 
 First is composed of self advocates who meet together in order to gain sel
 f-advocacy skills and for social events. People First is a local chapter o
 f the national organization Speaking For Ourselves.
X-WR-RELCALID:577a57fc33f07e30ee56d6fa198edf20
X-WR-TIMEZONE:America/Denver
BEGIN:VTIMEZONE
TZID:America/Denver
BEGIN:STANDARD
TZNAME:MST
DTSTART:20211107T020000
TZOFFSETFROM:-0600
TZOFFSETTO:-0700
RDATE:20221106T020000
RDATE:20231105T020000
END:STANDARD
BEGIN:DAYLIGHT
TZNAME:MDT
DTSTART:20220313T020000
TZOFFSETFROM:-0700
TZOFFSETTO:-0600
RDATE:20230312T020000
RDATE:20240310T020000
END:DAYLIGHT
END:VTIMEZONE
BEGIN:VEVENT
UID:ea6ea38e-ec2c-4cc6-8c6a-cfadc1e41468
DTSTAMP:20260421T113039Z
DESCRIPTION:Coffee House is a social meeting of self advocates.\n\nPeople F
 irst is composed of self advocates who meet together in order to gain self
 -advocacy skills and for social events. People First is a local chapter of
  the national organization Speaking For Ourselves.
DTSTART;TZID=America/Denver:20220915T173000
DTEND;TZID=America/Denver:20220915T190000
LOCATION:Panera Bread -- 650 S. Wadsworth Blvd\, Lakewood (Southeast corner
  of Wadsworth & Center Ave)
SUMMARY:Coffee House
END:VEVENT
END:VCALENDAR
