BEGIN:VCALENDAR
VERSION:2.0
PRODID:-//www.arcjc.org//NONSGML kigkonsult.se iCalcreator 2.30.10//
CALSCALE:GREGORIAN
METHOD:PUBLISH
UID:9e998b06-bd0e-44e3-8e09-74fa5d4101b3
X-WR-CALDESC:
X-WR-RELCALID:c09b904f344b4878b05403039bedab56
X-WR-TIMEZONE:America/Denver
BEGIN:VTIMEZONE
TZID:America/Denver
BEGIN:STANDARD
TZNAME:MST
DTSTART:20241103T020000
TZOFFSETFROM:-0600
TZOFFSETTO:-0700
RDATE:20251102T020000
RDATE:20261101T020000
END:STANDARD
BEGIN:DAYLIGHT
TZNAME:MDT
DTSTART:20250309T020000
TZOFFSETFROM:-0700
TZOFFSETTO:-0600
RDATE:20260308T020000
END:DAYLIGHT
END:VTIMEZONE
BEGIN:VEVENT
UID:05146a99-91be-4be0-9005-e70c15f2b263
DTSTAMP:20260423T072337Z
DESCRIPTION:
DTSTART;TZID=America/Denver:20250522T180000
DTEND;TZID=America/Denver:20250522T210000
LOCATION:Jefferson County Fairgrounds - 15200 W 6th Ave\, Golden\, CO 80401
SUMMARY:Peace\, Love & Neon
END:VEVENT
END:VCALENDAR
