BEGIN:VCALENDAR
VERSION:2.0
PRODID:-//www.arcjc.org//NONSGML kigkonsult.se iCalcreator 2.30.10//
CALSCALE:GREGORIAN
METHOD:PUBLISH
UID:5b913af6-a950-4fc5-87c7-6586fded2f8c
X-WR-CALDESC:
X-WR-RELCALID:80c8be3391f631eda09133618285d79f
X-WR-TIMEZONE:America/Denver
BEGIN:VTIMEZONE
TZID:America/Denver
BEGIN:STANDARD
TZNAME:MST
DTSTART:20241103T020000
TZOFFSETFROM:-0600
TZOFFSETTO:-0700
RDATE:20251102T020000
RDATE:20261101T020000
END:STANDARD
BEGIN:DAYLIGHT
TZNAME:MDT
DTSTART:20250309T020000
TZOFFSETFROM:-0700
TZOFFSETTO:-0600
RDATE:20260308T020000
END:DAYLIGHT
END:VTIMEZONE
BEGIN:VEVENT
UID:a82affe5-fddc-440c-907b-29c1c8bee570
DTSTAMP:20260423T055613Z
DESCRIPTION:
DTSTART;TZID=America/Denver:20250618T183000
DTEND;TZID=America/Denver:20250618T203000
LOCATION:Online via Zoom
SUMMARY:Annual Meeting & Board Meeting
END:VEVENT
END:VCALENDAR
