BEGIN:VCALENDAR
VERSION:2.0
PRODID:-//www.arcjc.org//NONSGML kigkonsult.se iCalcreator 2.30.10//
CALSCALE:GREGORIAN
METHOD:PUBLISH
UID:451b31fa-3691-416f-9eda-fb259226cc20
X-WR-CALDESC:
X-WR-RELCALID:5a729c2af7900861ae8ad8b610178856
X-WR-TIMEZONE:America/Denver
BEGIN:VTIMEZONE
TZID:America/Denver
BEGIN:STANDARD
TZNAME:MST
DTSTART:20241103T020000
TZOFFSETFROM:-0600
TZOFFSETTO:-0700
RDATE:20251102T020000
RDATE:20261101T020000
END:STANDARD
BEGIN:DAYLIGHT
TZNAME:MDT
DTSTART:20250309T020000
TZOFFSETFROM:-0700
TZOFFSETTO:-0600
RDATE:20260308T020000
END:DAYLIGHT
END:VTIMEZONE
BEGIN:VEVENT
UID:b726e392-6461-4bb9-9406-98038dd0d209
DTSTAMP:20260423T041942Z
DESCRIPTION:
DTSTART;TZID=America/Denver:20250723T160000
DTEND;TZID=America/Denver:20250723T190000
LOCATION:Clement Park Shelters O\,P & Q
SUMMARY:Annual Summer Picnic
END:VEVENT
END:VCALENDAR
