BEGIN:VCALENDAR
VERSION:2.0
PRODID:-//www.arcjc.org//NONSGML kigkonsult.se iCalcreator 2.30.10//
CALSCALE:GREGORIAN
METHOD:PUBLISH
UID:3ca660bb-c643-4a69-9a72-cd9de8dc8eec
X-WR-CALDESC:Thursday\, October 9\, 2025 \n7:00 pm - 9:00 pm\n\nThursday\, 
 October 23\, 2025 \n7:00 pm - 9:00 pm\n\nThursday\, November 6\, 2025 \n7:
 00 pm - 9:00 pm \n\nThursday\, November 20\, 2025\n7:00 pm - 9:00 pm \nIn-
 person \n\nIn-person sessions will be at The Arc’s Office\, located at:\n1
 3949 W. Colfax Ave\, Suite 102\, Lakewood\, CO 80401
X-WR-RELCALID:848d89138d3c35f1dbfe9a6feea05e77
X-WR-TIMEZONE:America/Denver
BEGIN:VTIMEZONE
TZID:America/Denver
BEGIN:STANDARD
TZNAME:MST
DTSTART:20241103T020000
TZOFFSETFROM:-0600
TZOFFSETTO:-0700
RDATE:20251102T020000
RDATE:20261101T020000
END:STANDARD
BEGIN:DAYLIGHT
TZNAME:MDT
DTSTART:20250309T020000
TZOFFSETFROM:-0700
TZOFFSETTO:-0600
RDATE:20260308T020000
RDATE:20270314T020000
END:DAYLIGHT
END:VTIMEZONE
BEGIN:VEVENT
UID:b64b8a64-d280-4037-b462-2321dc8eff1f
DTSTAMP:20260423T010444Z
DESCRIPTION:Thursday\, October 9\, 2025 \n7:00 pm - 9:00 pm\n\nThursday\, O
 ctober 23\, 2025 \n7:00 pm - 9:00 pm\n\nThursday\, November 6\, 2025 \n7:0
 0 pm - 9:00 pm \n\nThursday\, November 20\, 2025\n7:00 pm - 9:00 pm \nIn-p
 erson \n\nIn-person sessions will be at The Arc’s Office\, located at:\n13
 949 W. Colfax Ave\, Suite 102\, Lakewood\, CO 80401
DTSTART;TZID=America/Denver:20250925T190000
DTEND;TZID=America/Denver:20250925T210000
LOCATION:In-person
SUMMARY:Parent Empowerment Series: Special Education
END:VEVENT
END:VCALENDAR
