BEGIN:VCALENDAR
VERSION:2.0
PRODID:-//www.arcjc.org//NONSGML kigkonsult.se iCalcreator 2.30.10//
CALSCALE:GREGORIAN
METHOD:PUBLISH
UID:cab83921-977d-458a-885d-010314f40e7e
X-WR-CALDESC:
X-WR-RELCALID:7379d3c8e793491230900a070a15dc96
X-WR-TIMEZONE:America/Denver
BEGIN:VTIMEZONE
TZID:America/Denver
BEGIN:STANDARD
TZNAME:MST
DTSTART:20251102T020000
TZOFFSETFROM:-0600
TZOFFSETTO:-0700
RDATE:20261101T020000
END:STANDARD
BEGIN:DAYLIGHT
TZNAME:MDT
DTSTART:20250309T020000
TZOFFSETFROM:-0700
TZOFFSETTO:-0600
RDATE:20260308T020000
RDATE:20270314T020000
END:DAYLIGHT
END:VTIMEZONE
BEGIN:VEVENT
UID:a4f6c8fb-0e03-4611-8507-2252e677b5df
DTSTAMP:20260422T203249Z
DESCRIPTION:
DTSTART;TZID=America/Denver:20251208T150000
DTEND;TZID=America/Denver:20251208T190000
LOCATION:13949 W. Colfax Ave.\, Ste. 102\, Denver West Building 1\, Lakewoo
 d\, CO 80401 US
SUMMARY:The Arc's Holiday Open House
END:VEVENT
END:VCALENDAR
