BEGIN:VCALENDAR
VERSION:2.0
PRODID:-//www.arcjc.org//NONSGML kigkonsult.se iCalcreator 2.30.10//
CALSCALE:GREGORIAN
METHOD:PUBLISH
UID:84a1f9c4-6a26-4043-84b1-7f1877d05c40
X-WR-CALDESC:People First is composed of self advocates who meet together i
 n order to gain self-advocacy skills and for social events. People First i
 s a local chapter of the national organization Speaking For Ourselves.\n\n
 Join Zoom Meeting by clicking the link below.\n
X-WR-RELCALID:cf0375d555d80f0e514c49f3d605f6a6
X-WR-TIMEZONE:America/Denver
BEGIN:VTIMEZONE
TZID:America/Denver
BEGIN:STANDARD
TZNAME:MST
DTSTART:20251102T020000
TZOFFSETFROM:-0600
TZOFFSETTO:-0700
RDATE:20261101T020000
RDATE:20271107T020000
END:STANDARD
BEGIN:DAYLIGHT
TZNAME:MDT
DTSTART:20260308T020000
TZOFFSETFROM:-0700
TZOFFSETTO:-0600
RDATE:20270314T020000
RDATE:20280312T020000
END:DAYLIGHT
END:VTIMEZONE
BEGIN:VEVENT
UID:27b7993c-65b9-4e3a-a112-69bd90d62728
DTSTAMP:20260422T223846Z
DESCRIPTION:People First is composed of self advocates who meet together in
  order to gain self-advocacy skills and for social events. People First is
  a local chapter of the national organization Speaking For Ourselves.\n\nJ
 oin Zoom Meeting by clicking the link below.\n
DTSTART;TZID=America/Denver:20261007T173000
DTEND;TZID=America/Denver:20261007T183000
LOCATION:The Arc's Office -- 13949 W. Colfax Ave\, #102\, Lakewood\, CO
SUMMARY:People First Monthly Meeting
END:VEVENT
END:VCALENDAR
