BEGIN:VCALENDAR
VERSION:2.0
PRODID:-//www.arcjc.org//NONSGML kigkonsult.se iCalcreator 2.30.10//
CALSCALE:GREGORIAN
METHOD:PUBLISH
UID:9c9299af-432c-43fc-89ba-07ab376c9bc3
X-WR-CALDESC:
X-WR-RELCALID:60094c1dfa897ad9ab87c8100cab3eaf
X-WR-TIMEZONE:America/Denver
BEGIN:VTIMEZONE
TZID:America/Denver
BEGIN:STANDARD
TZNAME:MST
DTSTART:20261101T020000
TZOFFSETFROM:-0600
TZOFFSETTO:-0700
RDATE:20271107T020000
RDATE:20281105T020000
END:STANDARD
BEGIN:DAYLIGHT
TZNAME:MDT
DTSTART:20270314T020000
TZOFFSETFROM:-0700
TZOFFSETTO:-0600
RDATE:20280312T020000
END:DAYLIGHT
END:VTIMEZONE
BEGIN:VEVENT
UID:a214331c-d164-45e5-8fb9-750a197f18ee
DTSTAMP:20260423T115641Z
DESCRIPTION:
DTSTART;TZID=America/Denver:20270721T183000
DTEND;TZID=America/Denver:20270721T203000
LOCATION:The Arc office--13949 W Colfax Ave\, Denver West Bldg 1\, Suite 10
 2\, Lakewood\, CO 80401
SUMMARY:Board Meeting
END:VEVENT
END:VCALENDAR
