BEGIN:VCALENDAR
VERSION:2.0
PRODID:-//www.arcjc.org//NONSGML kigkonsult.se iCalcreator 2.30.10//
CALSCALE:GREGORIAN
METHOD:PUBLISH
UID:e3926828-ea15-4d95-b889-088bd4868bb6
X-WR-CALDESC:
X-WR-RELCALID:4b3361615fe808b950c3ff8a8682a429
X-WR-TIMEZONE:America/Denver
BEGIN:VTIMEZONE
TZID:America/Denver
BEGIN:STANDARD
TZNAME:MST
DTSTART:20261101T020000
TZOFFSETFROM:-0600
TZOFFSETTO:-0700
RDATE:20271107T020000
RDATE:20281105T020000
END:STANDARD
BEGIN:DAYLIGHT
TZNAME:MDT
DTSTART:20270314T020000
TZOFFSETFROM:-0700
TZOFFSETTO:-0600
RDATE:20280312T020000
END:DAYLIGHT
END:VTIMEZONE
BEGIN:VEVENT
UID:66b37e5a-5454-474a-a189-04b8eb149012
DTSTAMP:20260423T133250Z
DESCRIPTION:
DTSTART;TZID=America/Denver:20270818T183000
DTEND;TZID=America/Denver:20270818T203000
LOCATION:The Arc office--13949 W Colfax Ave\, Denver West Bldg 1\, Suite 10
 2\, Lakewood\, CO 80401
SUMMARY:Board Meeting
END:VEVENT
END:VCALENDAR
