BEGIN:VCALENDAR
VERSION:2.0
PRODID:-//www.arcjc.org//NONSGML kigkonsult.se iCalcreator 2.30.10//
CALSCALE:GREGORIAN
METHOD:PUBLISH
UID:0e5f1863-71da-459d-98b2-af3c760daa86
X-WR-CALDESC:Coffee House is a social meeting of self advocates.\n\nPeople 
 First is composed of self advocates who meet together in order to gain sel
 f-advocacy skills and for social events. People First is a local chapter o
 f the national organization Speaking For Ourselves.
X-WR-RELCALID:503b21aa43627e5dfe18331ac275bb9e
X-WR-TIMEZONE:America/Denver
BEGIN:VTIMEZONE
TZID:America/Denver
BEGIN:STANDARD
TZNAME:MST
DTSTART:20301103T020000
TZOFFSETFROM:-0600
TZOFFSETTO:-0700
RDATE:20311102T020000
RDATE:20321107T020000
END:STANDARD
BEGIN:DAYLIGHT
TZNAME:MDT
DTSTART:20310309T020000
TZOFFSETFROM:-0700
TZOFFSETTO:-0600
RDATE:20320314T020000
RDATE:20330313T020000
END:DAYLIGHT
END:VTIMEZONE
BEGIN:VEVENT
UID:4d1dc10b-a53e-4899-9d64-c30d6a67ff5f
DTSTAMP:20260426T040835Z
DESCRIPTION:Coffee House is a social meeting of self advocates.\n\nPeople F
 irst is composed of self advocates who meet together in order to gain self
 -advocacy skills and for social events. People First is a local chapter of
  the national organization Speaking For Ourselves.
DTSTART;TZID=America/Denver:20310918T173000
DTEND;TZID=America/Denver:20310918T190000
LOCATION:Panera Bread -- 650 S. Wadsworth Blvd\, Lakewood (Southeast corner
  of Wadsworth & Center Ave)
SUMMARY:Coffee House
END:VEVENT
END:VCALENDAR
